BEGIN:VCALENDAR
VERSION:2.0
PRODID:-//Voices of Bean Inc. - ECPv6.15.20//NONSGML v1.0//EN
CALSCALE:GREGORIAN
METHOD:PUBLISH
X-WR-CALNAME:Voices of Bean Inc.
X-ORIGINAL-URL:https://voicesofbean.org
X-WR-CALDESC:Events for Voices of Bean Inc.
REFRESH-INTERVAL;VALUE=DURATION:PT1H
X-Robots-Tag:noindex
X-PUBLISHED-TTL:PT1H
BEGIN:VTIMEZONE
TZID:Australia/Sydney
BEGIN:STANDARD
TZOFFSETFROM:+1100
TZOFFSETTO:+1000
TZNAME:AEST
DTSTART:20230401T160000
END:STANDARD
BEGIN:DAYLIGHT
TZOFFSETFROM:+1000
TZOFFSETTO:+1100
TZNAME:AEDT
DTSTART:20230930T160000
END:DAYLIGHT
BEGIN:STANDARD
TZOFFSETFROM:+1100
TZOFFSETTO:+1000
TZNAME:AEST
DTSTART:20240406T160000
END:STANDARD
BEGIN:DAYLIGHT
TZOFFSETFROM:+1000
TZOFFSETTO:+1100
TZNAME:AEDT
DTSTART:20241005T160000
END:DAYLIGHT
BEGIN:STANDARD
TZOFFSETFROM:+1100
TZOFFSETTO:+1000
TZNAME:AEST
DTSTART:20250405T160000
END:STANDARD
BEGIN:DAYLIGHT
TZOFFSETFROM:+1000
TZOFFSETTO:+1100
TZNAME:AEDT
DTSTART:20251004T160000
END:DAYLIGHT
END:VTIMEZONE
BEGIN:VEVENT
DTSTART;TZID=Australia/Sydney:20240709T190000
DTEND;TZID=Australia/Sydney:20240709T203000
DTSTAMP:20260424T091047
CREATED:20240707T101148Z
LAST-MODIFIED:20240707T101332Z
UID:489-1720551600-1720557000@voicesofbean.org
SUMMARY:Bean Counters: crunching the numbers to victory with Glenn Cummings from ProACT
DESCRIPTION:Come and hear how the numbers crunch towards victory for our own Independent representative in Bean. Glenn Cummings from proACT will show us the pathway to victory\, explain tactical voting and yes – show that Bean is absolutely winnable for an Independent. Come and find out how to be counted! Venue is in Chapman. \nFree but please register.
URL:https://voicesofbean.org/event/bean-counters-crunching-the-numbers-to-victory-with-glenn-cummings-from-proact/
LOCATION:Venue provided on registration
ORGANIZER;CN="Voices of Bean":MAILTO:hello@voicesofbean.org
END:VEVENT
BEGIN:VEVENT
DTSTART;TZID=Australia/Sydney:20240622T090000
DTEND;TZID=Australia/Sydney:20240622T170000
DTSTAMP:20260424T091047
CREATED:20240618T014014Z
LAST-MODIFIED:20240618T014014Z
UID:479-1719046800-1719075600@voicesofbean.org
SUMMARY:People Powered Politics Convention
DESCRIPTION:Voices of Bean is getting together with Voices for Canberra to participate in the Community Independents Project Convention together. You can drop in anytime 9am-5pm on Saturday 22 June and join us in person for this online event. Please use the contact form at the bottom of the page to get in touch for the address. \nThere’s also a networking session on Friday evening\, for which you would need your own registration\, still available from CIP.
URL:https://voicesofbean.org/event/people-powered-politics-convention/
ORGANIZER;CN="Voices of Bean":MAILTO:hello@voicesofbean.org
END:VEVENT
BEGIN:VEVENT
DTSTART;TZID=Australia/Sydney:20240617T190000
DTEND;TZID=Australia/Sydney:20240617T203000
DTSTAMP:20260424T091047
CREATED:20240618T014509Z
LAST-MODIFIED:20240618T014509Z
UID:483-1718650800-1718656200@voicesofbean.org
SUMMARY:Political Processes and the Potential for Independents
DESCRIPTION:Alec Beckett is a civics educator and will give an overview of the Australian Constitution including the parliament\, the basics of federal elections\, representation\, the formation of government\, passage of a bill including scrutiny/committees and how to be an active and informed voter. \nVoices of Bean members will then explain how we see a path to victory for a Community Independent in Bean at the next federal election. It will be an informal evening with plenty of chance for questions and discussion. \nMonday 17 June\, 7-8:30pm in Gordon. \nPlease RSVP by reply email for the address or Zoom link.
URL:https://voicesofbean.org/event/political-processes-and-the-potential-for-independents/
ORGANIZER;CN="Voices of Bean":MAILTO:hello@voicesofbean.org
END:VEVENT
BEGIN:VEVENT
DTSTART;TZID=Australia/Sydney:20240525T130000
DTEND;TZID=Australia/Sydney:20240525T150000
DTSTAMP:20260424T091047
CREATED:20240514T234017Z
LAST-MODIFIED:20240514T234017Z
UID:431-1716642000-1716649200@voicesofbean.org
SUMMARY:Democracy Walk\, Lake Tuggeranong
DESCRIPTION:Join us for coffee at Mimi’s Pitstop on Lake Tuggeranong\, grab a Voices of Bean t-shirt and we’ll all go for a leisurely walk along the lake shore. A great turnout will ensure lots of new awareness. Please rsvp to hello@voicesofbean.org.
URL:https://voicesofbean.org/event/democracy-walk-lake-tuggeranong/
LOCATION:Mimi’s Pit Stop\, Mortimer Lewis Dr\, Greenway\, ACT\, 2900\, Australia
ORGANIZER;CN="Voices of Bean":MAILTO:hello@voicesofbean.org
END:VEVENT
BEGIN:VEVENT
DTSTART;TZID=Australia/Sydney:20240518T130000
DTEND;TZID=Australia/Sydney:20240518T153000
DTSTAMP:20260424T091047
CREATED:20240514T065358Z
LAST-MODIFIED:20240514T073158Z
UID:422-1716037200-1716046200@voicesofbean.org
SUMMARY:Open Meeting\, Gowrie
DESCRIPTION:Join us for a bite and a chat about everything community and politics and Bean. Then\, if you like\, we’re heading for another hour or so to do some doorknocking and you’re welcome to partner up with us and get some training! Together we can reach more of the people of Bean. Please feel very welcome to come along. Please RSVP to hello@voicesofbean.org.
URL:https://voicesofbean.org/event/open-meeting-gowrie/
LOCATION:Common Grounds Gowrie\, 4 / 1 Jeffries Street\, Gowrie\, ACT\, 2904\, Australia
ORGANIZER;CN="Voices of Bean":MAILTO:hello@voicesofbean.org
END:VEVENT
BEGIN:VEVENT
DTSTART;TZID=Australia/Sydney:20240515T183000
DTEND;TZID=Australia/Sydney:20240515T200000
DTSTAMP:20260424T091047
CREATED:20240513T120328Z
LAST-MODIFIED:20240515T000533Z
UID:415-1715797800-1715803200@voicesofbean.org
SUMMARY:Trivia Night at Kambah Inn
DESCRIPTION:Anyone wanna come play trivia this Wednesday night at the gorgeous new Kambah Inn?? We’re booking a Voices of Bean table\, aka hang out\, have pub dinner\, smash out some trivia together\, and chat about everything RSVP to hello@voicesofbean.org – see you there! 
URL:https://voicesofbean.org/event/trivia-night-at-kambah-inn/
LOCATION:Kambah Inn\, 2/19 Primmer Ct\, Kambah\, ACT\, 2902\, Australia
ORGANIZER;CN="Voices of Bean":MAILTO:hello@voicesofbean.org
END:VEVENT
BEGIN:VEVENT
DTSTART;TZID=Australia/Sydney:20240505T150000
DTEND;TZID=Australia/Sydney:20240505T163000
DTSTAMP:20260424T091047
CREATED:20240429T122617Z
LAST-MODIFIED:20240429T122631Z
UID:380-1714921200-1714926600@voicesofbean.org
SUMMARY:Report Launch\, Kambah Inn
DESCRIPTION:Join us for another open meeting\, and get a look at the new report! Meet some of the team and have a chat and a drink. All welcome! \nPlease let us know you’re coming: hello@voicesofbean.org
URL:https://voicesofbean.org/event/report-launch-kambah-inn/
LOCATION:Kambah Inn\, 2/19 Primmer Ct\, Kambah\, ACT\, 2902\, Australia
ORGANIZER;CN="Voices of Bean":MAILTO:hello@voicesofbean.org
END:VEVENT
BEGIN:VEVENT
DTSTART;TZID=Australia/Sydney:20240502T200000
DTEND;TZID=Australia/Sydney:20240502T213000
DTSTAMP:20260424T091047
CREATED:20240422T084125Z
LAST-MODIFIED:20240422T084349Z
UID:374-1714680000-1714685400@voicesofbean.org
SUMMARY:Community Voices Changing Politics
DESCRIPTION:Canberra\, Australia: one of the best places in one of the best countries. But can we be doing better\, and whose job is that? Join us to hear from three great speakers as we explore climate change\, inter-generational equity and democracy. And most importantly\, community and what every one of us can do. Voices of Bean will release the first report of their community listening project at this event. Co-hosted by Voices for Canberra and Voices of Bean\, this is a call to action for everyone in the ACT (and Norfolk Island) to get involved and help build our future. \nAnjali Sharma\, lead litigant in Sharma v Minister for the Environment\, adutyofcare.com.au \nSaffron Zomer\, Executive Director\, Australian Democracy Network \nTBC\, community independent politics \nFree to attend but registration essential.
URL:https://voicesofbean.org/event/community-voices-changing-politics/
LOCATION:Online
ORGANIZER;CN="Voices of Bean":MAILTO:hello@voicesofbean.org
END:VEVENT
BEGIN:VEVENT
DTSTART;TZID=Australia/Sydney:20240414T110000
DTEND;TZID=Australia/Sydney:20240414T120000
DTSTAMP:20260424T091047
CREATED:20240406T023409Z
LAST-MODIFIED:20240406T023409Z
UID:323-1713092400-1713096000@voicesofbean.org
SUMMARY:Open Meeting\, Rivett
DESCRIPTION:Come and meet the Voices of Bean committee and chat with us about what we’re doing and how it’s going. Bring a friend\, grab a coffee and enjoy meeting and chatting with us and your neighbours. \nPlease feel very welcome to come along. RSVP to hello@voicesofbean.org by COB Thursday 11 April.
URL:https://voicesofbean.org/event/open-meeting-rivett/
LOCATION:Pitch Black Cafe\, 14 Rivett Place\, Rivett\, ACT\, 2611\, Australia
ORGANIZER;CN="Voices of Bean":MAILTO:hello@voicesofbean.org
END:VEVENT
BEGIN:VEVENT
DTSTART;TZID=Australia/Sydney:20240413T110000
DTEND;TZID=Australia/Sydney:20240413T120000
DTSTAMP:20260424T091047
CREATED:20240406T022741Z
LAST-MODIFIED:20240406T023051Z
UID:319-1713006000-1713009600@voicesofbean.org
SUMMARY:Open Meeting\, Gordon
DESCRIPTION:Come and meet the Voices of Bean committee and chat with us about what we’re doing and how it’s going. Bring a friend\, grab a coffee and enjoy meeting and chatting with us and your neighbours. \nPlease feel very welcome to come along. RSVP to hello@voicesofbean.org by COB Thursday 11 April.
URL:https://voicesofbean.org/event/open-meeting-gordon/
LOCATION:Little Luxton\, 110 Lewis Luxton Avenue\, Gordon\, ACT\, 2906\, Australia
ORGANIZER;CN="Voices of Bean":MAILTO:hello@voicesofbean.org
END:VEVENT
BEGIN:VEVENT
DTSTART;TZID=Australia/Sydney:20240324T140000
DTEND;TZID=Australia/Sydney:20240324T160000
DTSTAMP:20260424T091047
CREATED:20240219T031012Z
LAST-MODIFIED:20240319T225400Z
UID:254-1711288800-1711296000@voicesofbean.org
SUMMARY:Kitchen Table Conversations at Kambah Woolshed
DESCRIPTION:Kitchen Table Conversations are a key means of engagement used by Voices and other groups. \nThe KTC is a structured way to hold inclusive\, welcoming and respectful conversations to listen to one another about what matters to each person. We will ask 3 sets of questions to see: what does our Bean community value\, what are the issues that concern us\, and what are we looking for in our elected representative. You can see the full questions and ground rules in our KTC FAQ. \nAll participant’s views will be written down and contribute to a final report documenting the views of the people of Bean. \nEveryone (who lives in Bean) welcome\, and feel free to bring a friend too. The seating is rather rustic\, so you might want to bring a cushion. \nFree to attend\, but registrations essential.
URL:https://voicesofbean.org/event/kitchen-table-conversations-at-kambah-woolshed-3/
LOCATION:Kambah Woolshed\, 61 Springbett St\, Kambah
ORGANIZER;CN="Voices of Bean":MAILTO:hello@voicesofbean.org
END:VEVENT
BEGIN:VEVENT
DTSTART;TZID=Australia/Sydney:20240323T140000
DTEND;TZID=Australia/Sydney:20240323T160000
DTSTAMP:20260424T091047
CREATED:20240319T054100Z
LAST-MODIFIED:20240319T054100Z
UID:296-1711202400-1711209600@voicesofbean.org
SUMMARY:Voices of Chifley
DESCRIPTION:To make it easy and fun for everyone in Bean to have their say\, we’re planning to hold a community event in every suburb\, starting with Chifley! \nBring a chair and gather to discuss what is great about the area\, what could be done better and how we can help each other get it done. We’ll follow simple rules of courtesy. It’s not about finding agreement\, but about listening respectfully and hearing one another. \nTea and coffee will be available\, or of course there’s a cafe nearby\, and there are BBQs you can use. \nIn case of rain\, please see our facebook page or website.
URL:https://voicesofbean.org/event/voices-of-chifley/
LOCATION:Chifley Shops Playground\, Chifley Place\, Chifley\, ACT\, Australia
ORGANIZER;CN="Voices of Bean":MAILTO:hello@voicesofbean.org
END:VEVENT
BEGIN:VEVENT
DTSTART;TZID=Australia/Sydney:20240310T140000
DTEND;TZID=Australia/Sydney:20240310T160000
DTSTAMP:20260424T091047
CREATED:20240219T030822Z
LAST-MODIFIED:20240219T030822Z
UID:252-1710079200-1710086400@voicesofbean.org
SUMMARY:Kitchen Table Conversations at Kambah Woolshed
DESCRIPTION:Kitchen Table Conversations are a key means of engagement used by Voices and other groups. \nThe KTC is a structured way to hold inclusive\, welcoming and respectful conversations to listen to one another about what matters to each person. We will ask 3 sets of questions to see: what does our Bean community value\, what are the issues that concern us\, and what are we looking for in our elected representative. \nAll participant’s views will be written down and contribute to a final report documenting the views of the people of Bean. \nEveryone (who lives in Bean) welcome\, and feel free to bring a friend too. The seating is rather rustic\, so you might want to bring a cushion. \nFree to attend\, but registrations essential.
URL:https://voicesofbean.org/event/kitchen-table-conversations-at-kambah-woolshed-2/
LOCATION:Kambah Woolshed\, 61 Springbett St\, Kambah
ORGANIZER;CN="Voices of Bean":MAILTO:hello@voicesofbean.org
END:VEVENT
BEGIN:VEVENT
DTSTART;TZID=Australia/Sydney:20240225T140000
DTEND;TZID=Australia/Sydney:20240225T160000
DTSTAMP:20260424T091047
CREATED:20240209T044742Z
LAST-MODIFIED:20240209T044742Z
UID:212-1708869600-1708876800@voicesofbean.org
SUMMARY:Kitchen Table Conversations at Kambah Woolshed
DESCRIPTION:Kitchen Table Conversations are a key means of engagement used by Voices and other groups. \nThe KTC is a structured way to hold inclusive\, welcoming and respectful conversations to listen to one another about what matters to each person. We will ask 3 sets of questions to see: what does our Bean community value\, what are the issues that concern us\, and what are we looking for in our elected representative. \nAll participant’s views will be written down and contribute to a final report documenting the views of the people of Bean. \nEveryone (who lives in Bean) welcome\, and feel free to bring a friend too. The seating is rather rustic\, so you might want to bring a cushion. \nFree to attend\, but registrations essential. \n  \n 
URL:https://voicesofbean.org/event/kitchen-table-conversations-at-kambah-woolshed/
LOCATION:Kambah Woolshed\, 61 Springbett St\, Kambah
ORGANIZER;CN="Voices of Bean":MAILTO:hello@voicesofbean.org
END:VEVENT
BEGIN:VEVENT
DTSTART;TZID=Australia/Sydney:20240201T190000
DTEND;TZID=Australia/Sydney:20240201T210000
DTSTAMP:20260424T091047
CREATED:20240111T113729Z
LAST-MODIFIED:20240111T113729Z
UID:149-1706814000-1706821200@voicesofbean.org
SUMMARY:KTC Training with Active Democracy Bean
DESCRIPTION:Voices of Bean is hosting a Kitchen Table Conversation training evening\, facilitated by Cath Blunt from Active Democracy Bean (ADB). The evening is intended for anyone interested in using KTCs to engage with their community and is not exclusive to members of Voices of Bean. \nKitchen Table Conversations are a key means of engagement used by Voices and other groups. In short\, a host invites up to nine people (family\, friends\, colleagues\, neighbours) to attend a discussion where everyone has a chance to talk about the issues that concern them. A scribe notes down the issues that are raised and this data from many conversations is collated by the group to understand the issues across the community. \nCath Blunt loves KTCs as a means of having respectful and participatory conversations\, where everyone’s ideas are welcome and listening is the name of the game. She did her initial training in the KTC methodology with Mary Crooks from the Victorian Women’s Trust (VWT) in 2013 and has run 5 series of KTCs and 3 training sessions since then in her local community. ADB ran KTCs for the Voice (VWT’s Together\, Yes ) in 2023 and provided opportunities for ongoing support for Canberra hosts in the second half of last year. Anyone can be a KTC host and has the skills to do so. However a few tips on the process will build your confidence and give you a safe structure to work within which your participants will love. We will practice actually doing a mini KTC so come along and try it out! \nPlease Register for Free Tickets
URL:https://voicesofbean.org/event/ktc-training-with-active-democracy-bean/
LOCATION:Chifley Community Room\, 71 Maclaurin Crescent\, Chifley\, Australian Capital Territory\, Australia
ORGANIZER;CN="Voices of Bean":MAILTO:hello@voicesofbean.org
END:VEVENT
END:VCALENDAR